BEGIN:VCALENDAR
VERSION:2.0
METHOD:PUBLISH
PRODID::-//Obvius//NONSGML ICal//DA
BEGIN:VEVENT
UID:5031415@www.economics.ku.dk
DESCRIPTION:"Help for the Heartland? The Economic and Political Effects of
  the Trump Tariffs in US Local Labor Markets". Seminar arranged by the Dep
 artment of Economics\n\nhttps://www.econ.ku.dk/Kalender/seminarer/david-do
 rn-uzh/
SUMMARY:David Dorn\, UZH
LOCATION:CSS\, Øster Farimagsgade 5\, (lokale 26.2.21)\, 1353 Kbh K
ORGANIZER:Department of Economics
DTSTART:20260512T111500Z
DTSTAMP:20260512T111500Z
DTEND:20260512T124500Z
END:VEVENT
BEGIN:VEVENT
UID:5024362@www.economics.ku.dk
DESCRIPTION:"The Nature of Capital Expenditures over The Business Cycle". 
 Seminar arranged  by the Department of Economics\n\nhttps://www.econ.ku.d
 k/Kalender/seminarer/rdiger-bachmann-university-of-michigan/
SUMMARY:Rüdiger Bachmann\, University of Michigan
LOCATION:CSS\, Øster Farimagsgade 5\, (lokale 26.2.21)\, 1353 Kbh K
ORGANIZER:Department of Economics
DTSTART:20260513T111500Z
DTSTAMP:20260513T111500Z
DTEND:20260513T123000Z
END:VEVENT
END:VCALENDAR
